BEGIN:VCALENDAR
VERSION:2.0
PRODID:icalendar-ruby
CALSCALE:GREGORIAN
METHOD:PUBLISH
BEGIN:VEVENT
DTSTAMP:20260425T110702Z
UID:8-258475@stpaulselgin.org
DTSTART:20261018T130000Z
DTEND:20261018T140000Z
CLASS:PUBLIC
CREATED:20260424T225603
DESCRIPTION:
LAST-MODIFIED:20260424T225603
LOCATION:St. Paul's
SUMMARY:Church Service
URL;VALUE=URI:https://www.stpaulselgin.org/events/church-service/2026-10-18
END:VEVENT
END:VCALENDAR
