BEGIN:VCALENDAR
VERSION:2.0
PRODID:icalendar-ruby
CALSCALE:GREGORIAN
METHOD:PUBLISH
BEGIN:VEVENT
DTSTAMP:20260425T124458Z
UID:8-258519@stpaulselgin.org
DTSTART:20261025T130000Z
DTEND:20261025T140000Z
CLASS:PUBLIC
CREATED:20260425T083909
DESCRIPTION:
LAST-MODIFIED:20260425T083909
LOCATION:St. Paul's
SUMMARY:Church Service
URL;VALUE=URI:https://www.stpaulselgin.org/events/church-service/2026-10-25
END:VEVENT
END:VCALENDAR
