BEGIN:VCALENDAR
VERSION:2.0
PRODID:icalendar-ruby
CALSCALE:GREGORIAN
METHOD:PUBLISH
BEGIN:VEVENT
DTSTAMP:20260425T141748Z
UID:8-258520@stpaulselgin.org
DTSTART:20261101T140000Z
DTEND:20261101T150000Z
CLASS:PUBLIC
CREATED:20260425T083909
DESCRIPTION:
LAST-MODIFIED:20260425T083909
LOCATION:St. Paul's
SUMMARY:Church Service
URL;VALUE=URI:https://www.stpaulselgin.org/events/church-service/2026-11-01
END:VEVENT
END:VCALENDAR
